Felt | Verdi |
AEBBracketValue | 0 |
AlreadyApplied | True |
Aperture | 10.0 |
ApertureValue | 10.0 |
Artist | Photographer:
AutoExposureBracketing | Off |
AutoISO | 100 |
BaseISO | 0 |
BitsPerSample | 8 |
BlueHue | +11 |
BlueSaturation | -70 |
Brightness | +57 |
BulbDuration | 0 |
CameraProfile | Adobe Standard |
CameraType | n/a |
CanonExposureMode | Unknown (-1) |
CanonFirmwareVersion | |
CanonFlashMode | n/a |
CanonImageSize | n/a |
CanonImageType | |
ChromaticAberrationB | 0 |
ChromaticAberrationR | 0 |
CircleOfConfusion | 0.031 mm |
Clarity | +21 |
ColorComponents | 3 |
ColorNoiseReduction | 25 |
ColorSpace | sRGB |
ColorTemperature | 12500 |
ContinuousDrive | Unknown (-1) |
Contrast | +34 |
ControlMode | n/a |
ConvertToGrayscale | False |
Copyright | 2010 |
CreateDate (1) | 2010:10:02 13:05:57.05+02:00 |
CreateDate | 2010:10:02 13:05:57 |
Creator | Svein Omdahl |
CreatorAddress | Bergsåsveien 35 |
CreatorCity | Ramnes |
CreatorCountry | Norway |
CreatorPostalCode | N-3175 |
CreatorTool | Adobe Photoshop Lightroom |
CreatorWorkEmail | svein.omdahl@online.no |
CropAngle | 0 |
CropBottom | 0.969027 |
CropHeight | 3628 |
CropLeft | 0.015487 |
CropRight | 0.984513 |
CropTop | 0 |
CropUnit | pixels |
CropWidth | 5442 |
CustomRendered | Normal |
DateTimeDigitized | 2010:10:02 13:05:57.05+02:00 |
DateTimeOriginal (1) | 2010:10:02 13:05:57.05+02:00 |
DateTimeOriginal | 2010:10:02 13:05:57 |
Defringe | 0 |
DigitalZoom | None |
DOF | 4.43 m (0.69 - 5.13 m) |
DriveMode | Continuous Shooting |
EasyMode | Unknown (-1) |
ExifImageHeight (1) | 3628 |
ExifImageHeight | 683 |
ExifImageWidth (1) | 5442 |
ExifImageWidth | 1024 |
Exposure | +0.53 |
ExposureCompensation | 0 |
ExposureMode | Auto |
ExposureProgram | Aperture-priority AE |
ExposureTime | 1/25 |
FileNumber | 0 |
FillLight | 42 |
Firmware | 2.0.7 |
Flash | Off, Did not fire |
FlashBits | (none) |
FlashCompensation | 0 |
FlashExposureComp | 0 |
FlashFired | False |
FlashFunction | False |
FlashGuideNumber | 0 |
FlashMode | Off |
FlashRedEyeMode | False |
FlashReturn | No return detection |
FNumber | 10.0 |
FocalLength | 22.0 mm |
FocalLength35efl | 22.0 mm (35 mm equivalent: 21.5 mm) |
FocalUnits | 32/mm |
FocusMode | Single |
FocusRange | Not Known |
FOV | 79.9 deg |
GreenHue | +11 |
GreenSaturation | +25 |
HasCrop | True |
HasSettings | True |
HighlightRecovery | 79 |
HueAdjustmentAqua | 0 |
HueAdjustmentBlue | 0 |
HueAdjustmentGreen | 0 |
HueAdjustmentMagenta | 0 |
HueAdjustmentOrange | 0 |
HueAdjustmentPurple | 0 |
HueAdjustmentRed | 0 |
HueAdjustmentYellow | 0 |
HyperfocalDistance | 1.57 m |
ImageHeight (1) | 3628 |
ImageHeight | 683 |
ImageNumber | 0 |
ImageSize | 1024x683 |
ImageWidth (1) | 5442 |
ImageWidth | 1024 |
ISO (1) | 0 |
ISO | 250 |
Lens (1) | EF17-40mm f/4L USM |
Lens | 0.0 mm |
Lens35efl | 0.0 mm (35 mm equivalent: 0.0 mm) |
LensID (1) | 231 |
LensID | n/a |
LensInfo | 17-40mm f/? |
LensType | n/a |
LightValue | 10.0 |
LuminanceAdjustmentAqua | 0 |
LuminanceAdjustmentBlue | 0 |
LuminanceAdjustmentGreen | 0 |
LuminanceAdjustmentMagenta | 0 |
LuminanceAdjustmentOrange | 0 |
LuminanceAdjustmentPurple | 0 |
LuminanceAdjustmentRed | 0 |
LuminanceAdjustmentYellow | 0 |
LuminanceSmoothing | 0 |
MacroMode | Unknown (0) |
Make | Canon |
ManualFlashOutput | n/a |
Marked | True |
MaxApertureValue | 4.0 |
MaxFocalLength | 0 mm |
MeasuredEV | 5.00 |
Megapixels | 0.699 |
MeteringMode (1) | Spot |
MeteringMode | Unknown (-1) |
MinFocalLength | 0 mm |
Model | Canon EOS 5D Mark II |
ModifyDate (1) | 2010:10:03 10:29:34+02:00 |
ModifyDate | 2010:10:02 13:05:57 |
N-3 |
N-3175 Ramnes |
NDFilter | n/a |
OpticalZoomCode | n/a |
Orientation | Horizontal (normal) |
OwnerName (1) | Svein Omdahl |
OwnerName | Photographer:
PaintCorrectionActive | true |
PaintCorrectionAmount | 1.000000 |
PaintCorrectionBrightness | 0.000000 |
PaintCorrectionClarity | 0.000000 |
PaintCorrectionContrast | 0.000000 |
PaintCorrectionExposure | -0.025000 |
PaintCorrectionHue | 240.000000 |
PaintCorrectionMaskCenterWeight | 0.198184 |
PaintCorrectionMaskFlow | 0.926000 |
PaintCorrectionMaskRadius (1) | 0.078792 |
PaintCorrectionMaskRadius | 0.131091 |
PaintCorrectionMaskValue | 1.000000 |
PaintCorrectionMaskWhat | Mask/Paint |
PaintCorrectionSaturation | 0.000000 |
PaintCorrectionSharpness | 0.000000 |
PaintCorrectionWhat | Correction |
ParametricDarks | -3 |
ParametricHighlights | -21 |
ParametricHighlightSplit | 75 |
ParametricLights | 0 |
ParametricMidtoneSplit | 50 |
ParametricShadows | -14 |
ParametricShadowSplit | 25 |
PostCropVignetteAmount | 0 |
ProfileDescription | sRGB v1.31 (Canon) |
Quality | Fine |
Rating | 2 |
RedHue | +96 |
RedSaturation | +3 |
RelatedImageHeight | 683 |
RelatedImageWidth | 1024 |
Rights | 2010 |
Saturation | -71 |
SaturationAdjustmentAqua | 0 |
SaturationAdjustmentBlue | 0 |
SaturationAdjustmentGreen | 0 |
SaturationAdjustmentMagenta | 0 |
SaturationAdjustmentOrange | 0 |
SaturationAdjustmentPurple | 0 |
SaturationAdjustmentRed | 0 |
SaturationAdjustmentYellow | 0 |
ScaleFactor35efl | 1.0 |
SceneCaptureType | Standard |
SelfTimer | Off |
SequenceNumber | 0 |
SerialNumber | 1430808855 |
Shadows | 5 |
ShadowTint | +8 |
SharpenDetail | 25 |
SharpenEdgeMasking | 21 |
SharpenRadius | +0.5 |
Sharpness | 112 |
ShootingMode | Unknown (-1) |
ShutterSpeed | 1/25 |
ShutterSpeedValue | 1/25 |
SlowShutter | None |
Software | Digital Photo Professional |
SplitToningBalance | 0 |
SplitToningHighlightHue | 0 |
SplitToningHighlightSaturation | 0 |
SplitToningShadowHue | 0 |
SplitToningShadowSaturation | 0 |
SRAWQuality | n/a |
Subject | Bilkirkegård, Båstnäs, Fågelvik, TKK, Töcksfors |
SubjectDistance | 1.22 m |
Svein Omdahl
TargetAperture | 10 |
TargetExposureTime | 1/25 |
Tint | +35 |
ToneCurve | 0, 0, 255, 255 |
ToneCurveName | Linear |
UserComment | |
Version | 5.7 |
Vibrance | +26 |
VignetteAmount | -61 |
VignetteMidpoint | 34 |
WhiteBalance (2) | Auto |
WhiteBalance (3) | Custom |
WhiteBalance | Unknown (-1) |
ZoomSourceWidth | 0 |
ZoomTargetWidth | 0 |