Felt | Verdi |
AlreadyApplied | True |
Aperture | 6.3 |
ApertureValue | 6.3 |
BitsPerSample (1) | 16, 16, 16 |
BitsPerSample (2) | 16 16 16 |
BitsPerSample | 8 |
BlueHue | 0 |
BlueSaturation | 0 |
Brightness | +50 |
CameraProfile | Adobe Standard |
ChromaticAberrationB | 0 |
ChromaticAberrationR | 0 |
CircleOfConfusion | 0.031 mm |
Clarity | +12 |
ColorComponents | 3 |
ColorMode | RGB |
ColorNoiseReduction | 25 |
ColorSpace | sRGB |
ColorTemperature | 4857 |
Contrast | +41 |
ConvertToGrayscale | False |
CreateDate (1) | 2010:06:20 19:48:15.07+02:00 |
CreateDate | 2010:06:20 19:48:15 |
CreatorTool | Adobe Photoshop Lightroom |
CropAngle | 0 |
CropBottom | 1 |
CropHeight | 3744 |
CropLeft | 0.063726 |
CropRight | 0.973039 |
CropTop | 0 |
CropUnit | pixels |
CropWidth | 5107 |
CustomRendered | Normal |
DateTimeDigitized | 2010:06:20 19:48:15.07+02:00 |
DateTimeOriginal (1) | 2010:06:20 19:48:15.07+02:00 |
DateTimeOriginal | 2010:06:20 19:48:15 |
Defringe | 0 |
DOF | inf (0.63 m - inf) |
ExifImageHeight | 793 |
ExifImageWidth | 1024 |
Exposure | 0.00 |
ExposureCompensation | 0 |
ExposureMode | Auto |
ExposureProgram | Aperture-priority AE |
ExposureTime | 1/800 |
FillLight | 0 |
Firmware | 2.0.7 |
Flash | Off, Did not fire |
FlashCompensation | 0 |
FlashFired | False |
FlashFunction | False |
FlashMode | Off |
FlashRedEyeMode | False |
FlashReturn | No return detection |
FNumber | 6.3 |
FocalLength | 14.0 mm |
FocalLength35efl | 14.0 mm (35 mm equivalent: 13.7 mm) |
Format | image/jpeg |
FOV | 105.6 deg |
GreenHue | 0 |
GreenSaturation | 0 |
HasCrop | True |
HasSettings | True |
HighlightRecovery | 94 |
HueAdjustmentAqua | 0 |
HueAdjustmentBlue | 0 |
HueAdjustmentGreen | 0 |
HueAdjustmentMagenta | 0 |
HueAdjustmentOrange | 0 |
HueAdjustmentPurple | 0 |
HueAdjustmentRed | 0 |
HueAdjustmentYellow | 0 |
HyperfocalDistance | 1.01 m |
ICCProfileName | sRGB IEC61966-2.1 |
ImageHeight (1) | 1575 |
ImageHeight (2) | 5107 |
ImageHeight | 793 |
ImageNumber | 0 |
ImageSize | 1024x793 |
ImageWidth (1) | 2035 |
ImageWidth (2) | 3744 |
ImageWidth | 1024 |
ISO | 400 |
Lens | EF14mm f/2.8L II USM |
LensID (1) | 247 |
LensID | Canon EF 14mm f/2.8L II USM |
LensInfo | 14mm f/? |
LightValue | 13.0 |
LuminanceAdjustmentAqua | -62 |
LuminanceAdjustmentBlue | -62 |
LuminanceAdjustmentGreen | +7 |
LuminanceAdjustmentMagenta | -7 |
LuminanceAdjustmentOrange | -31 |
LuminanceAdjustmentPurple | -7 |
LuminanceAdjustmentRed | -19 |
LuminanceAdjustmentYellow | +7 |
LuminanceSmoothing | 15 |
Make | Canon |
MaxApertureValue | 2.8 |
Megapixels | 0.812 |
MeteringMode | Multi-segment |
Model | Canon EOS 5D Mark II |
ModifyDate (1) | 2010:09:17 13:54+02:00 |
ModifyDate | 2010:09:17 13:54:00 |
Orientation | Horizontal (normal) |
ParametricDarks | -2 |
ParametricHighlights | +26 |
ParametricHighlightSplit | 75 |
ParametricLights | -31 |
ParametricMidtoneSplit | 50 |
ParametricShadows | -2 |
ParametricShadowSplit | 25 |
PhotometricInterpretation | RGB |
PlanarConfiguration | Chunky |
PostCropVignetteAmount | 0 |
ProfileDescription | sRGB IEC61966-2.1 |
RedHue | 0 |
RedSaturation | 0 |
SamplesPerPixel | 3 |
Saturation | 0 |
SaturationAdjustmentAqua | +38 |
SaturationAdjustmentBlue | +40 |
SaturationAdjustmentGreen | +10 |
SaturationAdjustmentMagenta | -2 |
SaturationAdjustmentOrange | +5 |
SaturationAdjustmentPurple | -2 |
SaturationAdjustmentRed | +2 |
SaturationAdjustmentYellow | +5 |
ScaleFactor35efl | 1.0 |
SceneCaptureType | Standard |
SerialNumber | 530320270 |
Shadows | 2 |
ShadowTint | 0 |
SharpenDetail | 25 |
SharpenEdgeMasking | 0 |
SharpenRadius | +1.0 |
Sharpness | 57 |
ShutterSpeed | 1/800 |
ShutterSpeedValue | 1/800 |
Software | Adobe Photoshop CS4 Windows |
SplitToningBalance | 0 |
SplitToningHighlightHue | 0 |
SplitToningHighlightSaturation | 0 |
SplitToningShadowHue | 0 |
SplitToningShadowSaturation | 0 |
SubjectDistance | 1.63 m |
Tint | -1 |
ToneCurve | 0, 0, 32, 22, 64, 56, 128, 128, 192, 196, 255, 255 |
ToneCurveName | Medium Contrast |
URL_List | |
Version | 5.7 |
Vibrance | +10 |
VignetteAmount | 0 |
WhiteBalance (2) | Custom |
WhiteBalance | Auto |