Felt | Verdi |
1024-pixel Narrow Edge Sharpen
2009-02-10T11:45:01+01:00 File H:\1A NEF fra D700\Norge\OSLO\_DSC0073.psd saved
2009-02-10T11:47:31+01:00 File H:\1A NEF fra D700\Norge\OSLO\_DSC0073 vignette rem.psd saved
2009-02-10T12:47:50+01:00 File H:\1A NEF fra D700\Norge\OSLO\_DSC0073 vignette rem LAB.psd saved
2009-02-10T13:54:44+01:00 File _DSC0073 vignette rem LAB.psd opened
2009-02-10T14:10:16+01:00 File H:\1A NEF fra D700\Norge\OSLO\_DSC0073 vignette rem lab mask srgb.psd saved
2009-02-10T14:15:37+01:00 File H:\1A NEF fra D700\Norge\OSLO\_DSC0073 vignette rem lab mask srgb.jpg saved
8 Bits/Channel
Aberration Blue-Yellow: 0
Aberration Red-Cyan: 0
Add Layer Mask
Adjustment: curves adjustment list
AlreadyApplied | True |
Aperture | 11.0 |
ApertureValue | 11.0 |
Artist | Torgeir Johansen |
At: mask channel
BitsPerSample | 8 |
Blue: 127
BlueHue | 0 |
BlueSaturation | 0 |
Brightness | +69 |
Brush Tool
By-line | Torgeir Johansen |
CaBlue: -6
CameraProfile | ACR 4.6 |
CaptionWriter | Torgeir Johansen |
CaRed: 1
CFAPattern | [Red,Green][Green,Blue] |
Channel: a channel
Channel: b channel
ChromaticAberrationB | +2 |
ChromaticAberrationR | -18 |
CircleOfConfusion | 0.030 mm |
Clarity | +41 |
ColorComponents | 3 |
ColorMode | RGB |
ColorNoiseReduction | 28 |
ColorSpace | sRGB |
ColorTemperature | 6400 |
Contrast (2) | +14 |
Contrast | Normal |
Convert Mode Depth: 8
ConvertToGrayscale | False |
Copyright | ©2099 Torgeir Johansen |
CopyrightFlag | True |
CopyrightNotice | ©2099 Torgeir Johansen |
CreateDate (1) | 2009:02:10 14:15:37+01:00 |
CreateDate | 2009:02:06 14:50:43 |
Creator | Torgeir Johansen |
CreatorCity | Oslo |
CreatorCountry | Norway |
CreatorTool | Adobe Photoshop CS3 Windows |
Curve: point list
Curves 1 Layer
curves adjustment
CustomRendered | Normal |
DateTimeDigitized | 2009:02:06 14:50:43.50+01:00 |
DateTimeOriginal (1) | 2009:02:06 14:50:43.50+01:00 |
DateTimeOriginal | 2009:02:06 14:50:43 |
Defringe | 0 |
Delete current layer
Delete Layer
Depth of Field Brush Narrow Edges
DigitalZoomRatio | 1 |
Distort Coefficient0: 0
Distort Coefficient1: 0
Distort Coefficient2: 0
Distort Coefficient3: 1
Effect: “1024-pixel Narrow Edge Sharpen”
Effect: “Depth of Field Brush Narrow Edges”
Effect: “Sharpen Brush Narrow Edges 1”
Exchange Swatches
ExifImageHeight | 732 |
ExifImageWidth | 1100 |
Exposure | 0.00 |
ExposureCompensation | 0 |
ExposureMode | Auto |
ExposureProgram | Aperture-priority AE |
ExposureTime | 1/160 |
Fill Type: 2
FillLight | 0 |
FishCrop: 0
FishDistortion: 140
FishHorz: 0
FishRotate: 0
FishVert: 0
Flash | No Flash |
FlashFired | False |
FlashFunction | False |
FlashMode | Unknown |
FlashRedEyeMode | False |
FlashReturn | No return detection |
Flatten Image
FNumber | 11.0 |
FocalLength | 24.0 mm |
FocalLength35efl | 24.0 mm (35 mm equivalent: 24.0 mm) |
FocalLengthIn35mmFormat | 24 mm |
Format | image/jpeg |
FOV | 73.7 deg |
GainControl | High gain up |
Green: 127
GreenHue | 0 |
GreenSaturation | 0 |
Grid Color: RGB color
Grid Size: 16
GridColor: 255
HasCrop | False |
HasSettings | True |
Hide current layer
Hide layer “BrushSharp N1”
Hide layer “Curves 1”
Hide layer “Layer 0”
Hide layer “Layer 1”
HierarchicalSubject | 28mm AF-D, Norway, Opera, Operhuset, Oslo, Oslo Havn, Other Keywords|Norge, Other Keywords|snow, grey, harbour, overskyet, snø, vann, vinter, water |
HighlightRecovery | 0 |
Horizontal Grid Move: 0
Horizontal Perspective: 0
HueAdjustmentAqua | 0 |
HueAdjustmentBlue | 0 |
HueAdjustmentGreen | 0 |
HueAdjustmentMagenta | 0 |
HueAdjustmentOrange | 0 |
HueAdjustmentPurple | 0 |
HueAdjustmentRed | 0 |
HueAdjustmentYellow | 0 |
HyperfocalDistance | 1.74 m |
ICCProfileName | sRGB IEC61966-2.1 |
Image Size
Image Size Width: 1100 pixels
Image Size: 100
ImageHeight | 732 |
ImageNumber | 73 |
ImageSize | 1100x732 |
ImageWidth | 1100 |
In: H:\1A NEF fra D700\Norge\OSLO\
In: H:\1A NEF fra D700\Norge\OSLO\_DSC0073 vignette rem lab mask srgb.psd
In: H:\1A NEF fra D700\Norge\OSLO\_DSC0073 vignette rem.psd
Interpolation: bicubic sharper
ISO | 1250 |
Keywords | 28mm AF-D, Norge, Norway, Opera, Operhuset, Oslo, Oslo Havn, Other Keywords, grey, harbour, overskyet, snow, snø, vann, vinter, water |
Layer Order
Lens Correction
Lens Correction Distort Amount: 0
Lens | 24.0 mm f/2.8 |
LensInfo | 24mm f/2.8 |
LightSource | Unknown |
LightValue | 10.6 |
LuminanceAdjustmentAqua | +3 |
LuminanceAdjustmentBlue | +33 |
LuminanceAdjustmentGreen | -1 |
LuminanceAdjustmentMagenta | +18 |
LuminanceAdjustmentOrange | -33 |
LuminanceAdjustmentPurple | +2 |
LuminanceAdjustmentRed | +12 |
LuminanceAdjustmentYellow | -47 |
LuminanceSmoothing | 13 |
Make adjustment layer Using: adjustment layer
Make Layer
Make New: channel
Make | NIKON CORPORATION |
Marked | True |
master diameter: 1399 pixels
master diameter: 298 pixels
Master Opacity Change
MaxApertureValue | 2.8 |
Megapixels | 0.805 |
MeteringMode | Multi-segment |
Mode: normal
Model | NIKON D700 |
ModifyDate (1) | 2009:02:10 14:15:37+01:00 |
ModifyDate | 2009:02:10 14:15:37 |
Move current layer To: layer 2
Opacity: 100%
Open H:\1A NEF fra D700\Norge\OSLO\_DSC0073 vignette rem LAB.psd
Orientation | Horizontal (normal) |
ParametricDarks | 0 |
ParametricHighlights | +33 |
ParametricHighlightSplit | 90 |
ParametricLights | +9 |
ParametricMidtoneSplit | 50 |
ParametricShadows | -100 |
ParametricShadowSplit | 10 |
Paste
Paste Anti-alias: none
PerspectHorz: 0
PerspectRotate: 0
PerspectScale: 100
PerspectShiftHorz: 0
PerspectShiftVert: 0
PerspectVert: 0
Pixel Genius PhotoKit Creative Sharpener Set: “Sharpening Brushes”
Pixel Genius PhotoKit Output Sharpener Set: “Web and Multimedia Sharpeners”
Play action “Convert to LAB” of set “Egne actions”
Play action “Convert to srgb” of set “Egne actions”
point: 127, 126
point: 152, 177
point: 204, 255
point: 50, 0
point: 92, 57
PostCropVignetteAmount | 0 |
Preset Kind: Custom
ProfileDescription | sRGB IEC61966-2.1 |
PTLens CorChoice: 0
Rating | 0 |
RawFileName | _DSC0073.NEF |
Red: 127
RedHue | 0 |
RedSaturation | 0 |
Rights | ©2099 Torgeir Johansen |
Rotation Angle: 0
Saturation (2) | 0 |
Saturation | Normal |
SaturationAdjustmentAqua | +23 |
SaturationAdjustmentBlue | +11 |
SaturationAdjustmentGreen | +21 |
SaturationAdjustmentMagenta | +13 |
SaturationAdjustmentOrange | +48 |
SaturationAdjustmentPurple | +35 |
SaturationAdjustmentRed | +20 |
SaturationAdjustmentYellow | +66 |
Save As: Photoshop
ScaleFactor35efl | 1.0 |
SceneCaptureType | Standard |
SceneType | Directly photographed |
Select brush
Select brush “Hard Mechanical 60 pixels”
Select brush “Soft Mechanical 300 pixels”
Select history state -2
Select last history state
Select layer “Background” Without Make Visible
Select layer “Layer 0” Without Make Visible
Select layer “Layer 1” Without Make Visible
Select next document
Select next history state
Select previous history state
SensingMethod | One-chip color area |
SerialNumber | 2122793 |
Set Background To: layer
Set Brushes of current application To: C:\Program Files\Adobe\Adobe Photoshop CS3\Presets\Brushes\Basic Brushes.abr
Set current brush To: brush
Set current layer To: layer
Shadows | 5 |
ShadowTint | 0 |
Sharpen Brush Narrow Edges 1
SharpenDetail | 5 |
SharpenEdgeMasking | 33 |
SharpenRadius | +0.7 |
Sharpness (2) | 74 |
Sharpness | Normal |
Show current layer
Show layer “BrushSharp N1”
Show layer “Curves 1”
Show layer “Layer 0”
Show layer “Layer 1”
ShutterSpeed | 1/160 |
ShutterSpeedValue | 1/160 |
Software | Adobe Photoshop CS3 Windows |
SplitToningBalance | 0 |
SplitToningHighlightHue | 0 |
SplitToningHighlightSaturation | 0 |
SplitToningShadowHue | 0 |
SplitToningShadowSaturation | 0 |
Subject | 28mm AF-D, Norge, Norway, Opera, Operhuset, Oslo, Oslo Havn, Other Keywords, grey, harbour, overskyet, snow, snø, vann, vinter, water |
SubjectDistanceRange | Unknown |
Tint | 0 |
ToneCurve | 0, 0, 32, 22, 74, 65, 122, 129, 158, 168, 185, 197, 255, 255 |
ToneCurveName | Custom |
Type: curves
URL_List | |
Using: reveal all
Version | 4.6 |
Vertical Grid Move: 0
Vertical Perspective: 0
Vibrance | +5 |
VigAmount: 0
VigMidpoint: 50
Vignette Amount: 14
Vignette Midpoint: 50
VignetteAmount | 0 |
WhiteBalance (2) | Custom |
WhiteBalance | Auto |
With Constrain Proportions
With Maximize Compatibility
With Scale Styles
Without Adjust Selection
Without Show Grid
Writer-Editor | Torgeir Johansen |