Felt | Verdi |
AlreadyApplied | True |
Aperture | 5.0 |
ApertureValue | 5.0 |
Artist | Kurt Gaasoe |
BitsPerSample | 8 |
BlueHue | 0 |
BlueSaturation | 0 |
Brightness | +64 |
By-line | Kurt Gaasoe |
CameraProfile | ACR 3.6 |
ChromaticAberrationB | 0 |
ChromaticAberrationR | 0 |
CircleOfConfusion | 0.019 mm |
Clarity | 87 |
ColorComponents | 3 |
ColorMode | RGB |
ColorNoiseReduction | 25 |
ColorSpace (1) | Unknown (-1) |
ColorSpace | Uncalibrated |
ColorTemperature | 3702 |
Contrast | +27 |
ConvertToGrayscale | False |
Copyright | Kurt Gaasoe |
CopyrightFlag | False |
CopyrightNotice | Kurt Gaasoe |
CreateDate (1) | 2008:02:23 14:29:11+01:00 |
CreateDate | 2008:02:23 14:29:11 |
Creator | Kurt Gaasoe |
CreatorAddress | Lille Bislett 2 |
CreatorCity | Oslo |
CreatorCountry | Norway |
CreatorPostalCode | 0170 |
CreatorRegion | Oslo |
CreatorTool | Adobe Photoshop CS2 Macintosh |
CreatorWorkEmail | goga@online.no |
CropAngle | -1.478291 |
CropBottom | 0.922478 |
CropHeight | 2245 |
CropLeft | 0.018444 |
CropRight | 1 |
CropTop | 0.094038 |
CropUnit | pixels |
CropWidth | 3759 |
CustomRendered | Normal |
DateTimeDigitized | 2008:02:23 14:29:11+01:00 |
DateTimeOriginal (1) | 2008:02:23 14:29:11+01:00 |
DateTimeOriginal | 2008:02:23 14:29:11 |
Defringe | 0 |
ExifImageHeight | 764 |
ExifImageWidth | 1280 |
Exposure | +0.09 |
ExposureCompensation | 0 |
ExposureMode | Manual |
ExposureProgram | Manual |
ExposureTime | 2 |
FillLight | 0 |
Firmware | 1.0.4 |
Flash | Off, Did not fire |
FlashCompensation | 0 |
FlashFired | False |
FlashFunction | False |
FlashMode | Off |
FlashRedEyeMode | False |
FlashReturn | No return detection |
FNumber | 5.0 |
FocalLength | 40.0 mm |
FocalLength35efl | 40.0 mm (35 mm equivalent: 64.7 mm) |
Format | image/jpeg |
FOV | 31.1 deg |
GreenHue | 0 |
GreenSaturation | 0 |
HasCrop | True |
HasSettings | True |
HighlightRecovery | 0 |
HueAdjustmentAqua | 0 |
HueAdjustmentBlue | 0 |
HueAdjustmentGreen | 0 |
HueAdjustmentMagenta | 0 |
HueAdjustmentOrange | 0 |
HueAdjustmentPurple | 0 |
HueAdjustmentRed | 0 |
HueAdjustmentYellow | 0 |
HyperfocalDistance | 17.24 m |
ICCProfileName | Adobe RGB (1998) |
ImageHeight (1) | 2245 |
ImageHeight | 764 |
ImageNumber | 224 |
ImageSize | 1280x764 |
ImageWidth (1) | 3759 |
ImageWidth | 1280 |
ISO | 100 |
Keywords | Nationalteateret stasjon, Oslo, tog |
Lens | EF-S18-55mm f/3.5-5.6 |
LensInfo | 18-55mm f/? |
LightValue | 3.6 |
LuminanceAdjustmentAqua | 0 |
LuminanceAdjustmentBlue | 0 |
LuminanceAdjustmentGreen | 0 |
LuminanceAdjustmentMagenta | 0 |
LuminanceAdjustmentOrange | 0 |
LuminanceAdjustmentPurple | 0 |
LuminanceAdjustmentRed | 0 |
LuminanceAdjustmentYellow | 0 |
LuminanceSmoothing | 0 |
Make | Canon |
MaxApertureValue | 4.5 |
Megapixels | 0.978 |
MeteringMode | Multi-segment |
Model | Canon EOS 400D DIGITAL |
ModifyDate (1) | 2008:03:11 17:19:07+01:00 |
ModifyDate | 2008:03:11 17:19:07 |
Orientation | Horizontal (normal) |
OwnerName | unknown |
ParametricDarks | +22 |
ParametricHighlights | 0 |
ParametricHighlightSplit | 75 |
ParametricLights | 0 |
ParametricMidtoneSplit | 50 |
ParametricShadows | 0 |
ParametricShadowSplit | 25 |
ProfileDescription | Adobe RGB (1998) |
Rating | 1 |
RedHue | 0 |
RedSaturation | 0 |
Rights | Kurt Gaasoe |
Saturation | +49 |
SaturationAdjustmentAqua | 0 |
SaturationAdjustmentBlue | 0 |
SaturationAdjustmentGreen | 0 |
SaturationAdjustmentMagenta | 0 |
SaturationAdjustmentOrange | 0 |
SaturationAdjustmentPurple | 0 |
SaturationAdjustmentRed | 0 |
SaturationAdjustmentYellow | 0 |
ScaleFactor35efl | 1.6 |
SceneCaptureType | Standard |
SerialNumber | 530167206 |
Shadows | 16 |
ShadowTint | 0 |
SharpenDetail | 25 |
SharpenEdgeMasking | 0 |
SharpenRadius | +1.0 |
Sharpness | 25 |
ShutterSpeed | 2 |
ShutterSpeedValue | 2 |
Software | Adobe Photoshop CS2 Macintosh |
SplitToningBalance | 0 |
SplitToningHighlightHue | 0 |
SplitToningHighlightSaturation | 0 |
SplitToningShadowHue | 0 |
SplitToningShadowSaturation | 0 |
Subject | Nationalteateret stasjon, Oslo, tog |
Tint | +13 |
ToneCurve | 0, 0, 32, 22, 64, 56, 128, 128, 192, 196, 255, 255 |
ToneCurveName | Medium Contrast |
URL_List | |
Version | 1.0 |
Vibrance | -74 |
VignetteAmount | 0 |
WhiteBalance (2) | Custom |
WhiteBalance | Auto |