Felt | Verdi |
AlreadyApplied | True |
Aperture | 8.0 |
ApertureValue | 8.0 |
BitsPerSample | 8 |
BlueHue | 0 |
BlueSaturation | 0 |
Brightness | +53 |
By-line | Eivind Enes |
CameraProfile | ACR 3.6 |
CFAPattern | [Green,Blue][Red,Green] |
ChromaticAberrationB | 0 |
ChromaticAberrationR | 0 |
CircleOfConfusion | 0.020 mm |
Clarity | 0 |
ColorComponents | 3 |
ColorTemperature | 5650 |
Contrast (2) | +31 |
Contrast | Normal |
ConvertToGrayscale | True |
CreateDate | 2007:08:24 15:33:21 |
Creator | Eivind Enes |
CreatorCity | Bergen |
CreatorPostalCode | 5055 |
CreatorTool | Adobe Photoshop Lightroom |
CreatorWorkEmail | eivind.enes@gmail.com |
CreatorWorkTelephone | 99792750 |
CropAngle | 0.224468 |
CropBottom | 0.999318 |
CropHeight | 602 |
CropLeft | 0.00489 |
CropRight | 0.99511 |
CropTop | 0.000682 |
CropUnit | pixels |
CropWidth | 900 |
CustomRendered | Normal |
DateTimeDigitized | 2007:08:24 15:33:21.80+02:00 |
DateTimeOriginal (1) | 2007:08:24 15:33:21.80+02:00 |
DateTimeOriginal | 2007:08:24 15:33:21 |
Defringe | 0 |
DigitalZoomRatio | 1 |
Exposure | -0.08 |
ExposureCompensation | 0 |
ExposureMode | Auto |
ExposureProgram | Aperture-priority AE |
ExposureTime | 1/200 |
FillLight | 0 |
Flash | No Flash |
FlashFired | False |
FlashFunction | False |
FlashMode | Unknown |
FlashRedEyeMode | False |
FlashReturn | No return detection |
FNumber | 8.0 |
FocalLength | 24.0 mm |
FocalLength35efl | 24.0 mm (35 mm equivalent: 36.0 mm) |
FocalLengthIn35mmFormat | 36 mm |
FOV | 53.1 deg |
GainControl | None |
GrayMixerAqua | -2 |
GrayMixerBlue | -71 |
GrayMixerGreen | +15 |
GrayMixerMagenta | +4 |
GrayMixerOrange | -21 |
GrayMixerPurple | +23 |
GrayMixerRed | +6 |
GrayMixerYellow | +100 |
GreenHue | 0 |
GreenSaturation | 0 |
HasCrop | True |
HasSettings | True |
HighlightRecovery | 3 |
HyperfocalDistance | 3.59 m |
ImageHeight | 602 |
ImageNumber | 1733 |
ImageSize | 900x602 |
ImageWidth | 900 |
ISO | 200 |
Label | Red |
Lens | 12.0-24.0 mm f/4.0 |
LensInfo | 12-24mm f/4 |
LightSource | Unknown |
LightValue | 12.6 |
LuminanceSmoothing | 0 |
Make | NIKON CORPORATION |
MaxApertureValue | 4.0 |
Megapixels | 0.542 |
MeteringMode | Multi-segment |
Model | NIKON D80 |
ModifyDate (1) | 2007:10:07 14:32:28+02:00 |
ModifyDate | 2007:10:07 14:32:28 |
ParametricDarks | -9 |
ParametricHighlights | 0 |
ParametricHighlightSplit | 75 |
ParametricLights | +14 |
ParametricMidtoneSplit | 50 |
ParametricShadows | 0 |
ParametricShadowSplit | 25 |
ProfileDescription | Adobe RGB (1998) |
Rating | 3 |
RedHue | 0 |
RedSaturation | 0 |
Saturation | Normal |
ScaleFactor35efl | 1.5 |
SceneCaptureType | Standard |
SceneType | Directly photographed |
SensingMethod | One-chip color area |
Shadows | 16 |
ShadowTint | 0 |
SharpenDetail | 25 |
SharpenEdgeMasking | 0 |
SharpenRadius | +1.0 |
Sharpness (2) | 25 |
Sharpness | Soft |
ShutterSpeed | 1/200 |
ShutterSpeedValue | 1/200 |
Software | Ver.1.00 |
SplitToningBalance | -15 |
SplitToningHighlightHue | 0 |
SplitToningHighlightSaturation | 9 |
SplitToningShadowHue | 0 |
SplitToningShadowSaturation | 3 |
SubjectDistanceRange | Unknown |
Tint | +5 |
ToneCurve | 0, 0, 32, 22, 64, 56, 128, 128, 192, 196, 255, 255 |
ToneCurveName | Medium Contrast |
Version | 1.0 |
VignetteAmount | -71 |
VignetteMidpoint | 53 |
WhiteBalance (2) | As Shot |
WhiteBalance | Auto |