Felt | Verdi |
2022-12-09T16:12:32+01:00 File 2022_Diva.psd saved
2022-12-09T16:12:58+01:00 File 2022_Diva_uten.psd saved
2022-12-09T16:17:01+01:00 File 2022_Diva_uten.psd saved
2022-12-09T16:30:50+01:00 File 2022_Diva_uten.psd saved
2022-12-09T17:31:22+01:00 File 2022_Diva_uten-4857.tif opened
2022-12-09T17:35:31+01:00 File 2022_Diva_uten-4857-4858.psd saved
AlreadyApplied | True |
AutoLateralCA | 0 |
BitsPerSample | 8 |
Blacks2012 | -12 |
BlueHue | 0 |
BlueSaturation | 0 |
CameraProfile | Embedded |
Clarity2012 | 0 |
ColorComponents | 3 |
ColorGradeBlending | 77 |
ColorGradeGlobalHue | 0 |
ColorGradeGlobalLum | 0 |
ColorGradeGlobalSat | 0 |
ColorGradeHighlightLum | -29 |
ColorGradeMidtoneHue | 40 |
ColorGradeMidtoneLum | -33 |
ColorGradeMidtoneSat | 27 |
ColorGradeShadowLum | +25 |
ColorNoiseReduction | 25 |
ColorNoiseReductionDetail | 50 |
ColorNoiseReductionSmoothness | 50 |
ColorSpace | Uncalibrated |
ColorTransform | YCbCr |
Contrast2012 | +7 |
ConvertToGrayscale | False |
CreateDate (1) | 2022:10:19 03:02:54+02:00 |
CreateDate | 2022:10:19 03:02:54 |
CreatorTool | Adobe Photoshop Lightroom Classic 12.0.1 (Macintosh) |
CropAngle | 0 |
CropBottom | 1 |
CropConstrainToWarp | 0 |
CropLeft | 0 |
CropRight | 1 |
CropTop | 0 |
DefringeGreenAmount | 0 |
DefringeGreenHueHi | 60 |
DefringeGreenHueLo | 40 |
DefringePurpleAmount | 0 |
DefringePurpleHueHi | 70 |
DefringePurpleHueLo | 30 |
Dehaze | 0 |
Exposure2012 | +0.62 |
Format | image/jpeg |
GrainAmount | 0 |
GreenHue | 0 |
GreenSaturation | 0 |
HasCrop | False |
HasSettings | True |
Highlights2012 | -23 |
HueAdjustmentAqua | +5 |
HueAdjustmentBlue | +2 |
HueAdjustmentGreen | +10 |
HueAdjustmentMagenta | +13 |
HueAdjustmentOrange | 0 |
HueAdjustmentPurple | +10 |
HueAdjustmentRed | -12 |
HueAdjustmentYellow | +6 |
ImageHeight | 1514 |
ImageSize | 2048x1514 |
ImageWidth | 2048 |
IncrementalTemperature | 0 |
IncrementalTint | 0 |
LensManualDistortionAmount | 0 |
LensProfileEnable | 0 |
LuminanceAdjustmentAqua | 0 |
LuminanceAdjustmentBlue | -3 |
LuminanceAdjustmentGreen | 0 |
LuminanceAdjustmentMagenta | 0 |
LuminanceAdjustmentOrange | -6 |
LuminanceAdjustmentPurple | 0 |
LuminanceAdjustmentRed | -14 |
LuminanceAdjustmentYellow | 0 |
LuminanceSmoothing | 0 |
Megapixels | 3.1 |
ModifyDate (1) | 2022:12:09 17:39:40+01:00 |
ModifyDate | 2022:12:09 17:39:40 |
OverrideLookVignette | False |
ParametricDarks | 0 |
ParametricHighlights | 0 |
ParametricHighlightSplit | 75 |
ParametricLights | 0 |
ParametricMidtoneSplit | 50 |
ParametricShadows | 0 |
ParametricShadowSplit | 25 |
PerspectiveAspect | 0 |
PerspectiveHorizontal | 0 |
PerspectiveRotate | 0.0 |
PerspectiveScale | 100 |
PerspectiveUpright | 0 |
PerspectiveVertical | 0 |
PerspectiveX | 0.00 |
PerspectiveY | 0.00 |
PostCropVignetteAmount | 0 |
PreservedFileName | Skjermbilde 2022-10-19 kl. 03.02.48.png |
ProcessVersion | 11.0 |
ProfileDescription | Display P3 |
Rating | 5 |
RawFileName | 2022_Diva_uten-4857-4858.psd |
RedHue | 0 |
RedSaturation | 0 |
Saturation | +3 |
SaturationAdjustmentAqua | -10 |
SaturationAdjustmentBlue | -2 |
SaturationAdjustmentGreen | -13 |
SaturationAdjustmentMagenta | -6 |
SaturationAdjustmentOrange | -10 |
SaturationAdjustmentPurple | 0 |
SaturationAdjustmentRed | -13 |
SaturationAdjustmentYellow | -16 |
Shadows2012 | +23 |
ShadowTint | 0 |
SharpenDetail | 25 |
SharpenEdgeMasking | 0 |
SharpenRadius | +1.0 |
Sharpness | 23 |
Software | Adobe Photoshop Lightroom Classic 12.0.1 (Macintosh) |
SplitToningBalance | +33 |
SplitToningHighlightHue | 56 |
SplitToningHighlightSaturation | 10 |
SplitToningShadowHue | 208 |
SplitToningShadowSaturation | 57 |
Texture | 0 |
ToneCurveName2012 | Custom |
ToneCurvePV2012 | 0, 12, 32, 24, 70, 61, 111, 109, 177, 162, 255, 255 |
ToneCurvePV2012Blue | 0, 0, 255, 255 |
ToneCurvePV2012Green | 0, 0, 255, 255 |
ToneCurvePV2012Red | 0, 0, 255, 255 |
UserComment | Screenshot |
Version | 15.0 |
Vibrance | +20 |
VignetteAmount | 0 |
Virtualpaths | |
WhiteBalance | As Shot |
Whites2012 | +4 |