Felt | Verdi |
AlreadyApplied | True |
Aperture | 3.5 |
ApertureValue | 3.5 |
ApproximateFocusDistance | 29.2 |
AutoLateralCA | 0 |
AutoWhiteVersion | 134348800 |
BitsPerSample | 8 |
Blacks2012 | 0 |
BlueHue | 0 |
BlueSaturation | 0 |
CameraProfile | Adobe Standard |
Clarity2012 | +27 |
ColorComponents | 1 |
ColorMode | Grayscale |
ColorNoiseReduction | 25 |
ColorNoiseReductionDetail | 50 |
ColorNoiseReductionSmoothness | 50 |
ColorSpace | Uncalibrated |
ColorTemperature | 5200 |
ColorTransform | Unknown (RGB or CMYK) |
Contrast2012 | +18 |
ConvertToGrayscale | True |
CreateDate | 2016:09:16 10:54:45 |
CropAngle | 0 |
CropBottom | 0.994794 |
CropConstrainToWarp | 1 |
CropLeft | 0 |
CropRight | 0.997697 |
CropTop | 0.401752 |
CustomRendered | Normal |
DateCreated (1) | 2016:09:16 |
DateCreated | 2016:09:16 10:54:45.079 |
DateTimeOriginal | 2016:09:16 10:54:45 |
Dehaze | 0 |
ExifImageHeight | 2277 |
ExifImageWidth | 5747 |
Exposure2012 | 0.00 |
ExposureCompensation | 0 |
ExposureMode | Auto |
ExposureProgram | Aperture-priority AE |
ExposureTime | 1/320 |
Firmware | 1.1.2 |
Flash | Off, Did not fire |
FlashCompensation | 0 |
FNumber | 3.5 |
FocalLength | 200.0 mm |
FocalLength35efl | 200.0 mm |
Format | image/jpeg |
GrainAmount | 0 |
GrayMixerAqua | -17 |
GrayMixerBlue | +11 |
GrayMixerGreen | -24 |
GrayMixerMagenta | +3 |
GrayMixerOrange | -17 |
GrayMixerPurple | +15 |
GrayMixerRed | -9 |
GrayMixerYellow | -20 |
GreenHue | 0 |
GreenSaturation | 0 |
HasCrop | True |
HasSettings | True |
Highlights2012 | -62 |
ICCProfileName | Gray Gamma 2.2 |
ImageHeight | 2277 |
ImageNumber | 0 |
ImageSize | 5747x2277 |
ImageWidth | 5747 |
ISO | 100 |
Lens | 70-200mm |
LensID (1) | 174 |
LensID | Sigma 70-200mm f/2.8 EX DG APO OS HSM |
LensInfo | 70-200mm f/? |
LensManualDistortionAmount | 0 |
LensModel | 70-200mm |
LensProfileEnable | 0 |
LensProfileSetup | LensDefaults |
LensSerialNumber | 0000000000 |
LightValue | 11.9 |
LuminanceSmoothing | 0 |
Make | Canon |
MaxApertureValue | 2.8 |
Megapixels | 13.1 |
MeteringMode | Multi-segment |
Model | Canon EOS 5D Mark III |
ModifyDate (1) | 2016:09:20 21:21:54+02:00 |
ModifyDate | 2016:09:20 21:21:54 |
Orientation | Horizontal (normal) |
ParametricDarks | 0 |
ParametricHighlights | 0 |
ParametricHighlightSplit | 75 |
ParametricLights | 0 |
ParametricMidtoneSplit | 50 |
ParametricShadows | 0 |
ParametricShadowSplit | 25 |
PerspectiveAspect | 0 |
PerspectiveHorizontal | 0 |
PerspectiveRotate | 0.0 |
PerspectiveScale | 100 |
PerspectiveUpright | 0 |
PerspectiveVertical | 0 |
PostCropVignetteAmount | 0 |
ProcessVersion | 6.7 |
ProfileDescription | Gray Gamma 2.2 |
Rating | 0 |
RawFileName | _D9A4562.CR2 |
RecommendedExposureIndex | 100 |
RedHue | 0 |
RedSaturation | 0 |
SceneCaptureType | Standard |
SensitivityType | Recommended Exposure Index |
SerialNumber | 033023009139 |
Shadows2012 | +1 |
ShadowTint | 0 |
SharpenDetail | 25 |
SharpenEdgeMasking | 0 |
SharpenRadius | +1.0 |
Sharpness | 25 |
ShutterSpeed | 1/320 |
ShutterSpeedValue | 1/320 |
Software | Adobe Photoshop CS6 (Macintosh) |
SplitToningBalance | 0 |
SplitToningHighlightHue | 0 |
SplitToningHighlightSaturation | 0 |
SplitToningShadowHue | 0 |
SplitToningShadowSaturation | 0 |
Tint | +5 |
ToneCurve | 0, 0, 32, 22, 64, 56, 128, 128, 192, 196, 255, 255 |
ToneCurveBlue | 0, 0, 255, 255 |
ToneCurveGreen | 0, 0, 255, 255 |
ToneCurveName | Medium Contrast |
ToneCurveName2012 | Linear |
ToneCurvePV2012 | 0, 0, 255, 255 |
ToneCurvePV2012Blue | 0, 0, 255, 255 |
ToneCurvePV2012Green | 0, 0, 255, 255 |
ToneCurvePV2012Red | 0, 0, 255, 255 |
ToneCurveRed | 0, 0, 255, 255 |
ToneMapStrength | 0 |
URL_List | |
Version | 9.1.1 |
VignetteAmount | 0 |
WhiteBalance (1) | As Shot |
WhiteBalance | Manual |
Whites2012 | +58 |