Felt | Verdi |
AlreadyApplied | True |
Aperture | 11.0 |
ApertureValue | 11.0 |
ApproximateFocusDistance | 4294967295 |
Artist | Hans Rich. Andersen |
AutoLateralCA | 1 |
AutoWhiteVersion | 134348800 |
BitsPerSample | 8 |
Blacks2012 | -18 |
BlueHue | 0 |
BlueSaturation | 0 |
By-line | Hans Rich. Andersen |
CameraProfile | Camera Landscape |
CircleOfConfusion | 0.011 mm |
Clarity2012 | +10 |
ColorComponents | 3 |
ColorNoiseReduction | 25 |
ColorNoiseReductionDetail | 50 |
ColorNoiseReductionSmoothness | 50 |
ColorSpace | sRGB |
ColorTemperature | 6500 |
ColorTransform | YCbCr |
Contrast2012 | +10 |
ConvertToGrayscale | False |
Copyright | Hans Rich. Andersen |
CopyrightNotice | Hans Rich. Andersen |
CreateDate (1) | 2016:09:21 10:48:03.78 |
CreateDate | 2016:09:21 10:48:03 |
Creator | Hans Rich. Andersen |
CreatorTool | Adobe Photoshop Lightroom 5.7 (Macintosh) |
CustomRendered | Normal |
DateCreated (1) | 2016:09:21 |
DateCreated | 2016:09:21 10:48:03.78 |
DateTimeOriginal | 2016:09:21 10:48:03 |
DefringeGreenAmount | 0 |
DefringeGreenHueHi | 60 |
DefringeGreenHueLo | 40 |
DefringePurpleAmount | 0 |
DefringePurpleHueHi | 70 |
DefringePurpleHueLo | 30 |
DOF | inf (13.80 m - inf) |
Exposure2012 | -0.30 |
ExposureCompensation | 0 |
ExposureMode | Auto |
ExposureProgram | Aperture-priority AE |
ExposureTime | 1/13 |
Firmware | 1.1.4 |
Flash | Off, Did not fire |
FlashCompensation | 0 |
FNumber | 11.0 |
FocalLength | 40.0 mm |
FocalLength35efl | 40.0 mm (35 mm equivalent: 114.0 mm) |
Format | image/jpeg |
FOV | 17.9 deg |
GradientBasedCorrActive | true |
GradientBasedCorrAmount | 1.000000 |
GradientBasedCorrBrightness | 0.000000 |
GradientBasedCorrClarity2012 | 0.000000 |
GradientBasedCorrContrast2012 | 0.000000 |
GradientBasedCorrDefringe | 0.000000 |
GradientBasedCorrExposure2012 | -0.278090 |
GradientBasedCorrHighlights2012 | 0.000000 |
GradientBasedCorrHue | 240.000000 |
GradientBasedCorrLuminanceNoise | 0.000000 |
GradientBasedCorrMaskFullX | 0.506608 |
GradientBasedCorrMaskFullY | 0.005312 |
GradientBasedCorrMaskValue | 1.000000 |
GradientBasedCorrMaskWhat | Mask/Gradient |
GradientBasedCorrMaskZeroX | 0.508259 |
GradientBasedCorrMaskZeroY | 0.259656 |
GradientBasedCorrMoire | 0.000000 |
GradientBasedCorrSaturation | 0.000000 |
GradientBasedCorrShadows2012 | 0.000000 |
GradientBasedCorrSharpness | 0.250000 |
GradientBasedCorrTemperature | 0.000000 |
GradientBasedCorrTint | 0.000000 |
GradientBasedCorrWhat | Correction |
GrainAmount | 0 |
GreenHue | 0 |
GreenSaturation | 0 |
HasCrop | False |
HasSettings | True |
Highlights2012 | -100 |
HueAdjustmentAqua | 0 |
HueAdjustmentBlue | 0 |
HueAdjustmentGreen | 0 |
HueAdjustmentMagenta | 0 |
HueAdjustmentOrange | 0 |
HueAdjustmentPurple | 0 |
HueAdjustmentRed | 0 |
HueAdjustmentYellow | 0 |
HyperfocalDistance | 13.80 m |
ImageHeight | 1280 |
ImageNumber | 0 |
ImageSize | 1920x1280 |
ImageWidth | 1920 |
ISO | 100 |
Lens | EF17-40mm f/4L USM |
LensID (1) | 231 |
LensID | Canon EF 17-40mm f/4L USM |
LensInfo | 17-40mm f/? |
LensManualDistortionAmount | 0 |
LensModel | EF17-40mm f/4L USM |
LensProfileChromaticAberrationScale | 100 |
LensProfileDistortionScale | 100 |
LensProfileEnable | 1 |
LensProfileFilename | Canon EOS-1Ds Mark III (Canon EF 17-40mm f4 L USM) - RAW.lcp |
LensProfileName | Adobe (Canon EF 17-40mm f/4 L USM) |
LensProfileSetup | LensDefaults |
LensProfileVignettingScale | 100 |
LensSerialNumber | 0000000000 |
LightValue | 10.6 |
LuminanceAdjustmentAqua | 0 |
LuminanceAdjustmentBlue | 0 |
LuminanceAdjustmentGreen | 0 |
LuminanceAdjustmentMagenta | 0 |
LuminanceAdjustmentOrange | 0 |
LuminanceAdjustmentPurple | 0 |
LuminanceAdjustmentRed | 0 |
LuminanceAdjustmentYellow | 0 |
LuminanceNoiseReductionContrast | 0 |
LuminanceNoiseReductionDetail | 50 |
LuminanceSmoothing | 20 |
Make | Canon |
MaxApertureValue | 4.0 |
Megapixels | 2.5 |
MeteringMode | Multi-segment |
Model | Canon EOS 6D |
ModifyDate (1) | 2016:09:21 20:16:08+07:00 |
ModifyDate | 2016:09:21 20:16:08 |
OwnerName | Hans Rich. Andersen Norway |
ParametricDarks | 0 |
ParametricHighlights | 0 |
ParametricHighlightSplit | 75 |
ParametricLights | 0 |
ParametricMidtoneSplit | 50 |
ParametricShadows | 0 |
ParametricShadowSplit | 25 |
PerspectiveAspect | 0 |
PerspectiveHorizontal | 0 |
PerspectiveRotate | 0.0 |
PerspectiveScale | 100 |
PerspectiveUpright | 0 |
PerspectiveVertical | 0 |
PostCropVignetteAmount | 0 |
ProcessVersion | 6.7 |
ProfileDescription | sRGB IEC61966-2.1 |
RecommendedExposureIndex | 100 |
RedHue | 0 |
RedSaturation | 0 |
Rights | Hans Rich. Andersen |
Saturation | +10 |
SaturationAdjustmentAqua | 0 |
SaturationAdjustmentBlue | 0 |
SaturationAdjustmentGreen | 0 |
SaturationAdjustmentMagenta | 0 |
SaturationAdjustmentOrange | 0 |
SaturationAdjustmentPurple | 0 |
SaturationAdjustmentRed | 0 |
SaturationAdjustmentYellow | 0 |
ScaleFactor35efl | 2.9 |
SceneCaptureType | Standard |
SensitivityType | Recommended Exposure Index |
SerialNumber | 183020004440 |
Shadows2012 | 0 |
ShadowTint | 0 |
SharpenDetail | 67 |
SharpenEdgeMasking | 94 |
SharpenRadius | +0.9 |
Sharpness | 70 |
ShutterSpeed | 1/13 |
ShutterSpeedValue | 1/13 |
Software | Adobe Photoshop Lightroom 5.7 (Macintosh) |
SplitToningBalance | 0 |
SplitToningHighlightHue | 0 |
SplitToningHighlightSaturation | 0 |
SplitToningShadowHue | 0 |
SplitToningShadowSaturation | 0 |
Tint | +10 |
ToneCurve | 0, 0, 255, 255 |
ToneCurveBlue | 0, 0, 255, 255 |
ToneCurveGreen | 0, 0, 255, 255 |
ToneCurveName | Linear |
ToneCurveName2012 | Linear |
ToneCurvePV2012 | 0, 0, 255, 255 |
ToneCurvePV2012Blue | 0, 0, 255, 255 |
ToneCurvePV2012Green | 0, 0, 255, 255 |
ToneCurvePV2012Red | 0, 0, 255, 255 |
ToneCurveRed | 0, 0, 255, 255 |
Version | 8.7 |
Vibrance | +10 |
VignetteAmount | 0 |
WhiteBalance (1) | Cloudy |
WhiteBalance | Auto |
Whites2012 | +40 |